BEGIN:VCALENDAR
VERSION:2.0
METHOD:PUBLISH
CALSCALE:GREGORIAN
PRODID:-//Helios Calendar//EN
X-FROM-URL:https://www.aamu.edu/calendar/index.php?eID=1057
X-WR-RELCALID:AAMU Calendar Move-In Day for New Students Only    20190808T073000
X-WR-TIMEZONE:Europe/London
X-WR-CALNAME:AAMU Calendar
BEGIN:VEVENT
URL;VALUE=URI:https://www.aamu.edu/calendar/index.php?eID=1057
DTSTART:20190808T073000
DTEND:20190808T170000
SUMMARY:Move-In Day for New Students Only   
DESCRIPTION:Move-In Day for New Students Only New students assigned to the residence halls below\; should report to the Student Health and Wellness Center for check in.Foster East and West Complex (1st and 2nd... For complete event details please visit:  https://www.aamu.edu/calendar/?eID=1057\n______________________________\nEvent Downloaded Powered by OU Calendar
LOCATION:AAMU Campus - 4900 Meridian Street \, Huntsville\, AL USA 35811
CATEGORIES:AAMU Calendar Events
PRIORITY:0
TRANSP:TRANSPARENT
END:VEVENT
END:VCALENDAR