BEGIN:VCALENDAR
VERSION:2.0
METHOD:PUBLISH
CALSCALE:GREGORIAN
PRODID:-//Helios Calendar//EN
X-FROM-URL:https://www.aamu.edu/calendar/index.php?eID=1060
X-WR-RELCALID:AAMU Calendar Move-In Day: Returning Students 20190810T103000
X-WR-TIMEZONE:Europe/London
X-WR-CALNAME:AAMU Calendar
BEGIN:VEVENT
URL;VALUE=URI:https://www.aamu.edu/calendar/index.php?eID=1060
DTSTART:20190810T103000
DTEND:20190810T170000
SUMMARY:Move-In Day: Returning Students
DESCRIPTION:Move-In for Returning Students Returning students should check-into your assigned Residence Hall Normal Hills (Check-in at the Wellness Center\, 10am-5pm)Knight ComplexStudent Residence Hall    Normal... For complete event details please visit:  https://www.aamu.edu/calendar/?eID=1060\n______________________________\nEvent Downloaded Powered by OU Calendar
LOCATION:AAMU Campus - 4900 Meridian Street \, Huntsville\, AL USA 35811
CATEGORIES:AAMU Calendar Events
PRIORITY:0
TRANSP:TRANSPARENT
END:VEVENT
END:VCALENDAR