BEGIN:VCALENDAR
VERSION:2.0
METHOD:PUBLISH
CALSCALE:GREGORIAN
PRODID:-//Helios Calendar//EN
X-FROM-URL:https://www.aamu.edu/calendar/index.php?eID=1065
X-WR-RELCALID:AAMU Calendar Late Registration Fees Begin 20190815
X-WR-TIMEZONE:Europe/London
X-WR-CALNAME:AAMU Calendar
BEGIN:VEVENT
URL;VALUE=URI:https://www.aamu.edu/calendar/index.php?eID=1065
DTSTART;VALUE=DATE:20190815
DTEND;VALUE=DATE:20190816
SUMMARY:Late Registration Fees Begin
DESCRIPTION:Late Registration Fees Begin For complete event details please visit:  https://www.aamu.edu/calendar/?eID=1065\n______________________________\nEvent Downloaded Powered by OU Calendar
LOCATION:AAMU Campus - 4900 Meridian Street \, Huntsville\, AL USA 35811
CATEGORIES:AAMU Calendar Events
PRIORITY:0
TRANSP:TRANSPARENT
END:VEVENT
END:VCALENDAR