BEGIN:VCALENDAR
VERSION:2.0
METHOD:PUBLISH
CALSCALE:GREGORIAN
PRODID:-//Helios Calendar//EN
X-FROM-URL:https://www.aamu.edu/calendar/index.php?eID=1154
X-WR-RELCALID:AAMU Calendar ZΦBΣ Presents: Lip Σync 20190913T190000
X-WR-TIMEZONE:Europe/London
X-WR-CALNAME:AAMU Calendar
BEGIN:VEVENT
URL;VALUE=URI:https://www.aamu.edu/calendar/index.php?eID=1154
DTSTART:20190913T190000
DTEND:20190913T220000
SUMMARY:ZΦBΣ Presents: Lip Σync
DESCRIPTION:An event where different organizations on campus battle to win lip syncing champion. Teams no bigger than six from every organization will compete by choosing a song and performing it. The audience... For complete event details please visit:  https://www.aamu.edu/calendar/?eID=1154\n______________________________\nEvent Downloaded Powered by OU Calendar
LOCATION:Elmore Gymnasium -  \, \, AL  
CATEGORIES:AAMU Calendar Events
PRIORITY:0
TRANSP:TRANSPARENT
END:VEVENT
END:VCALENDAR