BEGIN:VCALENDAR
VERSION:2.0
METHOD:PUBLISH
CALSCALE:GREGORIAN
PRODID:-//Helios Calendar//EN
X-FROM-URL:https://www.aamu.edu/calendar/index.php?eID=1181
X-WR-RELCALID:AAMU Calendar Chinese Calligraphy 20190627T180000
X-WR-TIMEZONE:Europe/London
X-WR-CALNAME:AAMU Calendar
BEGIN:VEVENT
URL;VALUE=URI:https://www.aamu.edu/calendar/index.php?eID=1181
DTSTART:20190627T180000
DTEND:20190627T191500
SUMMARY:Chinese Calligraphy
DESCRIPTION:This FREE continuing education class\, sponsored by the Confucius Institute at Alabama A&M University\, will explore the world of Chinese Writing!   Join Professor Zhensan Fang and gain basic knowledge... For complete event details please visit:  https://www.aamu.edu/calendar/?eID=1181\n______________________________\nEvent Downloaded Powered by OU Calendar
LOCATION:Learning Resources Center (LRC) - Multipurpose Room -  \, \, AL  
CATEGORIES:AAMU Calendar Events
PRIORITY:0
TRANSP:TRANSPARENT
END:VEVENT
END:VCALENDAR