BEGIN:VCALENDAR
VERSION:2.0
METHOD:PUBLISH
CALSCALE:GREGORIAN
PRODID:-//Helios Calendar//EN
X-FROM-URL:https://www.aamu.edu/calendar/index.php?eID=1184
X-WR-RELCALID:AAMU Calendar Marketing & Public Relations 20190528T090000
X-WR-TIMEZONE:Europe/London
X-WR-CALNAME:AAMU Calendar
BEGIN:VEVENT
URL;VALUE=URI:https://www.aamu.edu/calendar/index.php?eID=1184
DTSTART:20190528T090000
DTEND:20190528T093000
SUMMARY:Marketing & Public Relations
DESCRIPTION:City of Huntsville Crews to Activate New Pedestrian Crossing at Alabama A&M University. For complete event details please visit:  https://www.aamu.edu/calendar/?eID=1184\n______________________________\nEvent Downloaded Powered by OU Calendar
LOCATION:Legacy Lake -  \, \, AL  
CATEGORIES:AAMU Calendar Events
PRIORITY:0
TRANSP:TRANSPARENT
END:VEVENT
END:VCALENDAR