BEGIN:VCALENDAR
VERSION:2.0
METHOD:PUBLISH
CALSCALE:GREGORIAN
PRODID:-//Helios Calendar//EN
X-FROM-URL:https://www.aamu.edu/calendar/index.php?eID=1187
X-WR-RELCALID:AAMU Calendar Exploring Chinese Culture Youth Class! 20190618T130000
X-WR-TIMEZONE:Europe/London
X-WR-CALNAME:AAMU Calendar
BEGIN:VEVENT
URL;VALUE=URI:https://www.aamu.edu/calendar/index.php?eID=1187
DTSTART:20190618T130000
DTEND:20190618T150000
SUMMARY:Exploring Chinese Culture Youth Class!
DESCRIPTION:Sponsored by the AAMU Confucius Institute\, this FREE class is for youth in grades 3 - 8.  Participants will explore the Chinese culture through history\, language\, calligraphy\, and more!    No... For complete event details please visit:  https://www.aamu.edu/calendar/?eID=1187\n______________________________\nEvent Downloaded Powered by OU Calendar
LOCATION:Learning Resources Center (LRC) - Multipurpose Room -  \, \, AL  
CATEGORIES:AAMU Calendar Events
PRIORITY:0
TRANSP:TRANSPARENT
END:VEVENT
END:VCALENDAR