BEGIN:VCALENDAR
VERSION:2.0
METHOD:PUBLISH
CALSCALE:GREGORIAN
PRODID:-//Helios Calendar//EN
X-FROM-URL:https://www.aamu.edu/calendar/index.php?eID=1191
X-WR-RELCALID:AAMU Calendar Beginning Mandarin Chinese 20190618T180000
X-WR-TIMEZONE:Europe/London
X-WR-CALNAME:AAMU Calendar
BEGIN:VEVENT
URL;VALUE=URI:https://www.aamu.edu/calendar/index.php?eID=1191
DTSTART:20190618T180000
DTEND:20190618T191500
SUMMARY:Beginning Mandarin Chinese
DESCRIPTION:This FREE continuing education class\, sponsored by the AAMU Confucius Institute\, will teach the basics of the Mandarin Chinese language\, with an emphasis on spoken language and conversation.  Participants... For complete event details please visit:  https://www.aamu.edu/calendar/?eID=1191\n______________________________\nEvent Downloaded Powered by OU Calendar
LOCATION:Learning Resources Center (LRC) - Multipurpose Room -  \, \, AL  
CATEGORIES:AAMU Calendar Events
PRIORITY:0
TRANSP:TRANSPARENT
END:VEVENT
END:VCALENDAR