BEGIN:VCALENDAR
VERSION:2.0
METHOD:PUBLISH
CALSCALE:GREGORIAN
PRODID:-//Helios Calendar//EN
X-FROM-URL:https://www.aamu.edu/calendar/index.php?eID=1195
X-WR-RELCALID:AAMU Calendar Email Advising: Applying The Five I’s To Provide Robust, Comprehensive & Engaging Responses 20190605T113000
X-WR-TIMEZONE:Europe/London
X-WR-CALNAME:AAMU Calendar
BEGIN:VEVENT
URL;VALUE=URI:https://www.aamu.edu/calendar/index.php?eID=1195
DTSTART:20190605T113000
DTEND:20190605T143000
SUMMARY:Email Advising: Applying The Five I’s To Provide Robust\, Comprehensive & Engaging Responses
DESCRIPTION:In the busy lives of advisors\, it is easy to become inundated with email inquiries from students. In order to manage their workload\, advisors may tend to quickly answer student questions before moving... For complete event details please visit:  https://www.aamu.edu/calendar/?eID=1195\n______________________________\nEvent Downloaded Powered by OU Calendar
LOCATION:Learning Resources Center   - 4900 Meridian Street Learning Resource Center\, Normal\, AL United States 35762
CATEGORIES:AAMU Calendar Events
PRIORITY:0
TRANSP:TRANSPARENT
END:VEVENT
END:VCALENDAR