BEGIN:VCALENDAR
VERSION:2.0
METHOD:PUBLISH
CALSCALE:GREGORIAN
PRODID:-//Helios Calendar//EN
X-FROM-URL:https://www.aamu.edu/calendar/index.php?eID=1196
X-WR-RELCALID:AAMU Calendar CDS Presents 'Mr. Yohance Myles' from OWN's TV Series 'Ambition' and 'Queen Sugar' 20190606T093000
X-WR-TIMEZONE:Europe/London
X-WR-CALNAME:AAMU Calendar
BEGIN:VEVENT
URL;VALUE=URI:https://www.aamu.edu/calendar/index.php?eID=1196
DTSTART:20190606T093000
DTEND:20190606T093000
SUMMARY:CDS Presents 'Mr. Yohance Myles' from OWN's TV Series 'Ambition' and 'Queen Sugar'
DESCRIPTION:Career Development Services is pleased to present "Mr. Yohance Myles" from OWN's TV series  "Ambition" and "Queen Sugar". For complete event details please visit:  https://www.aamu.edu/calendar/?eID=1196\n______________________________\nEvent Downloaded Powered by OU Calendar
LOCATION:Clyde Foster Multipurpose Room -  \, \, AL  
CATEGORIES:AAMU Calendar Events
PRIORITY:0
TRANSP:TRANSPARENT
END:VEVENT
END:VCALENDAR