BEGIN:VCALENDAR
VERSION:2.0
METHOD:PUBLISH
CALSCALE:GREGORIAN
PRODID:-//Helios Calendar//EN
X-FROM-URL:https://www.aamu.edu/calendar/index.php?eID=1198
X-WR-RELCALID:AAMU Calendar Fall 2019 Faculty and Staff Conference 20190813T090000
X-WR-TIMEZONE:Europe/London
X-WR-CALNAME:AAMU Calendar
BEGIN:VEVENT
URL;VALUE=URI:https://www.aamu.edu/calendar/index.php?eID=1198
DTSTART:20190813T090000
DTEND:20190813T090000
SUMMARY:Fall 2019 Faculty and Staff Conference
DESCRIPTION:The Fall 2019 Faculty and Staff Conference will be held at the AAMU Wellness Center on Tuesday\, August 13\, 2019.  Registration will begin at 7:30 a.m. with the program beginning at 9:00 a.m. For complete event details please visit:  https://www.aamu.edu/calendar/?eID=1198\n______________________________\nEvent Downloaded Powered by OU Calendar
LOCATION:Student Health and Wellness Center (SHWC) -  \, \, AL  
CATEGORIES:AAMU Calendar Events
PRIORITY:0
TRANSP:TRANSPARENT
END:VEVENT
END:VCALENDAR