BEGIN:VCALENDAR
VERSION:2.0
METHOD:PUBLISH
CALSCALE:GREGORIAN
PRODID:-//Helios Calendar//EN
X-FROM-URL:https://www.aamu.edu/calendar/index.php?eID=1199
X-WR-RELCALID:AAMU Calendar CETL Presents: Program Check List Workshop 20190620T113000
X-WR-TIMEZONE:Europe/London
X-WR-CALNAME:AAMU Calendar
BEGIN:VEVENT
URL;VALUE=URI:https://www.aamu.edu/calendar/index.php?eID=1199
DTSTART:20190620T113000
DTEND:20190620T140000
SUMMARY:CETL Presents: Program Check List Workshop
DESCRIPTION:This workshop will let you know what a Program Checklist is and how to understand it. The presenter will explain why it is set up the way it is and the best way to use the program checklist. You will... For complete event details please visit:  https://www.aamu.edu/calendar/?eID=1199\n______________________________\nEvent Downloaded Powered by OU Calendar
LOCATION:LRC Room 309  - 4900 Meridian Street LRC Room 308\, Normal\, AL United States 35762
CATEGORIES:AAMU Calendar Events
PRIORITY:0
TRANSP:TRANSPARENT
END:VEVENT
END:VCALENDAR