BEGIN:VCALENDAR
VERSION:2.0
METHOD:PUBLISH
CALSCALE:GREGORIAN
PRODID:-//Helios Calendar//EN
X-FROM-URL:https://www.aamu.edu/calendar/index.php?eID=1200
X-WR-RELCALID:AAMU Calendar CETL Presents: Retention Modeling: Using Data To Customize Interventions & Change Success Trajectory 20190625T123000
X-WR-TIMEZONE:Europe/London
X-WR-CALNAME:AAMU Calendar
BEGIN:VEVENT
URL;VALUE=URI:https://www.aamu.edu/calendar/index.php?eID=1200
DTSTART:20190625T123000
DTEND:20190625T153000
SUMMARY:CETL Presents: Retention Modeling: Using Data To Customize Interventions & Change Success Trajectory
DESCRIPTION:Ever-tightening resources have become the reality for most institutions. Campuses have to figure out how to effectively utilize their assets. Retention Modeling is an effective way of using the data... For complete event details please visit:  https://www.aamu.edu/calendar/?eID=1200\n______________________________\nEvent Downloaded Powered by OU Calendar
LOCATION:LRC Room 309  - 4900 Meridian Street LRC Room 309\, Normal\, AL United States 35762
CATEGORIES:AAMU Calendar Events
PRIORITY:0
TRANSP:TRANSPARENT
END:VEVENT
END:VCALENDAR