BEGIN:VCALENDAR
VERSION:2.0
METHOD:PUBLISH
CALSCALE:GREGORIAN
PRODID:-//Helios Calendar//EN
X-FROM-URL:https://www.aamu.edu/calendar/index.php?eID=1201
X-WR-RELCALID:AAMU Calendar CETL Presents: Resolving Conflict at Work:  Improving Workplace Relationships 20190710T083000
X-WR-TIMEZONE:Europe/London
X-WR-CALNAME:AAMU Calendar
BEGIN:VEVENT
URL;VALUE=URI:https://www.aamu.edu/calendar/index.php?eID=1201
DTSTART:20190710T083000
DTEND:20190710T140000
SUMMARY:CETL Presents: Resolving Conflict at Work:  Improving Workplace Relationships
DESCRIPTION:Conflict is a constant in the workplace whenever teams need to discuss\, employees are competing\, or co-workers disagree. But conflict does not need to come with a flurry of frustration\, aggression\,... For complete event details please visit:  https://www.aamu.edu/calendar/?eID=1201\n______________________________\nEvent Downloaded Powered by OU Calendar
LOCATION:LRC Multipurpose Room 1st Floor - 4900 Meridian Street LRC 1st Floor Multipurpose Room\, Normal\, AL United States 35762
CATEGORIES:AAMU Calendar Events
PRIORITY:0
TRANSP:TRANSPARENT
END:VEVENT
END:VCALENDAR