BEGIN:VCALENDAR
VERSION:2.0
METHOD:PUBLISH
CALSCALE:GREGORIAN
PRODID:-//Helios Calendar//EN
X-FROM-URL:https://www.aamu.edu/calendar/index.php?eID=1202
X-WR-RELCALID:AAMU Calendar CETL Presents: Increasing Transfer Student Retention: Challenges, Interventions & Programming 20190711T113000
X-WR-TIMEZONE:Europe/London
X-WR-CALNAME:AAMU Calendar
BEGIN:VEVENT
URL;VALUE=URI:https://www.aamu.edu/calendar/index.php?eID=1202
DTSTART:20190711T113000
DTEND:20190711T143000
SUMMARY:CETL Presents: Increasing Transfer Student Retention: Challenges\, Interventions & Programming
DESCRIPTION:More than 60% of college students graduate with transfer credits\, many entering college with early enrollment credit earned in high school\, and tens of thousands transferring credits from two and... For complete event details please visit:  https://www.aamu.edu/calendar/?eID=1202\n______________________________\nEvent Downloaded Powered by OU Calendar
LOCATION:LRC Room 309  - 4900 Meridian Street LRC Room 308\, Normal\, AL United States 35762
CATEGORIES:AAMU Calendar Events
PRIORITY:0
TRANSP:TRANSPARENT
END:VEVENT
END:VCALENDAR