BEGIN:VCALENDAR
VERSION:2.0
METHOD:PUBLISH
CALSCALE:GREGORIAN
PRODID:-//Helios Calendar//EN
X-FROM-URL:https://www.aamu.edu/calendar/index.php?eID=1203
X-WR-RELCALID:AAMU Calendar CETL Presents: Train Your Front Office Staff To Work Effectively With Demanding Faculty & Staff 20190717T133000
X-WR-TIMEZONE:Europe/London
X-WR-CALNAME:AAMU Calendar
BEGIN:VEVENT
URL;VALUE=URI:https://www.aamu.edu/calendar/index.php?eID=1203
DTSTART:20190717T133000
DTEND:20190717T160000
SUMMARY:CETL Presents: Train Your Front Office Staff To Work Effectively With Demanding Faculty & Staff
DESCRIPTION:It is not unusual for front office workers to have to deal with demanding customers and sometimes with customers who are angry or upset. These conflicts can be especially difficult if the customer... For complete event details please visit:  https://www.aamu.edu/calendar/?eID=1203\n______________________________\nEvent Downloaded Powered by OU Calendar
LOCATION:LRC Room 309  - 4900 Meridian Street LRC Room 308\, Normal\, AL United States 35762
CATEGORIES:AAMU Calendar Events
PRIORITY:0
TRANSP:TRANSPARENT
END:VEVENT
END:VCALENDAR