BEGIN:VCALENDAR
VERSION:2.0
METHOD:PUBLISH
CALSCALE:GREGORIAN
PRODID:-//Helios Calendar//EN
X-FROM-URL:https://www.aamu.edu/calendar/index.php?eID=1205
X-WR-RELCALID:AAMU Calendar Board of Trustees Committee Meetings 20190620T083000
X-WR-TIMEZONE:Europe/London
X-WR-CALNAME:AAMU Calendar
BEGIN:VEVENT
URL;VALUE=URI:https://www.aamu.edu/calendar/index.php?eID=1205
DTSTART:20190620T083000
DTEND:20190620T160000
SUMMARY:Board of Trustees Committee Meetings
DESCRIPTION:The Alabama A&M University Board of Trustees will hold its regularly scheduled meeting on June 21\, 2019 at 10:00 a.m. on the Campus of the University in its regular meeting location in the Clyde... For complete event details please visit:  https://www.aamu.edu/calendar/?eID=1205\n______________________________\nEvent Downloaded Powered by OU Calendar
LOCATION:School of Business -  \, \, AL  
CATEGORIES:AAMU Calendar Events
PRIORITY:0
TRANSP:TRANSPARENT
END:VEVENT
END:VCALENDAR