BEGIN:VCALENDAR
VERSION:2.0
METHOD:PUBLISH
CALSCALE:GREGORIAN
PRODID:-//Helios Calendar//EN
X-FROM-URL:https://www.aamu.edu/calendar/index.php?eID=1322
X-WR-RELCALID:AAMU Calendar Commencement Practice (Wellness Center)  20191205T100000
X-WR-TIMEZONE:Europe/London
X-WR-CALNAME:AAMU Calendar
BEGIN:VEVENT
URL;VALUE=URI:https://www.aamu.edu/calendar/index.php?eID=1322
DTSTART:20191205T100000
DTEND:20191205T113000
SUMMARY:Commencement Practice (Wellness Center) 
DESCRIPTION:Commencement Practice (Wellness Center) For complete event details please visit:  https://www.aamu.edu/calendar/?eID=1322\n______________________________\nEvent Downloaded Powered by OU Calendar
LOCATION:AAMU Campus - 4900 Meridian Street \, Huntsville\, AL USA 35811
CATEGORIES:AAMU Calendar Events
PRIORITY:0
TRANSP:TRANSPARENT
END:VEVENT
END:VCALENDAR