BEGIN:VCALENDAR
VERSION:2.0
METHOD:PUBLISH
CALSCALE:GREGORIAN
PRODID:-//Helios Calendar//EN
X-FROM-URL:https://www.aamu.edu/calendar/index.php?eID=1447
X-WR-RELCALID:AAMU Calendar Spring Break 20200330
X-WR-TIMEZONE:Europe/London
X-WR-CALNAME:AAMU Calendar
BEGIN:VEVENT
URL;VALUE=URI:https://www.aamu.edu/calendar/index.php?eID=1447
DTSTART;VALUE=DATE:20200330
DTEND;VALUE=DATE:20200331
SUMMARY:Spring Break
DESCRIPTION:University Closure: Spring Break For complete event details please visit:  https://www.aamu.edu/calendar/?eID=1447\n______________________________\nEvent Downloaded Powered by OU Calendar
LOCATION:AAMU Campus - 4900 Meridian Street \, Huntsville\, AL USA 35811
CATEGORIES:AAMU Calendar Events
PRIORITY:0
TRANSP:TRANSPARENT
END:VEVENT
END:VCALENDAR