BEGIN:VCALENDAR
VERSION:2.0
METHOD:PUBLISH
CALSCALE:GREGORIAN
PRODID:-//Helios Calendar//EN
X-FROM-URL:https://www.aamu.edu/calendar/index.php?eID=1453
X-WR-RELCALID:AAMU Calendar Final Exams for May 2020 Graduates (Graduate and Undergraduate Students) 20200421
X-WR-TIMEZONE:Europe/London
X-WR-CALNAME:AAMU Calendar
BEGIN:VEVENT
URL;VALUE=URI:https://www.aamu.edu/calendar/index.php?eID=1453
DTSTART;VALUE=DATE:20200421
DTEND;VALUE=DATE:20200422
SUMMARY:Final Exams for May 2020 Graduates (Graduate and Undergraduate Students)
DESCRIPTION:Final Exams for May 2020 Graduates (Graduate and Undergraduate Students) For complete event details please visit:  https://www.aamu.edu/calendar/?eID=1453\n______________________________\nEvent Downloaded Powered by OU Calendar
LOCATION:AAMU Campus - 4900 Meridian Street \, Huntsville\, AL USA 35811
CATEGORIES:AAMU Calendar Events
PRIORITY:0
TRANSP:TRANSPARENT
END:VEVENT
END:VCALENDAR