BEGIN:VCALENDAR
VERSION:2.0
METHOD:PUBLISH
CALSCALE:GREGORIAN
PRODID:-//Helios Calendar//EN
X-FROM-URL:https://www.aamu.edu/calendar/index.php?eID=1471
X-WR-RELCALID:AAMU Calendar CETL Presents: Teaching Gen Z Students: Strategies For Dynamic &  Engaging Learning Experiences 20190822T120000
X-WR-TIMEZONE:Europe/London
X-WR-CALNAME:AAMU Calendar
BEGIN:VEVENT
URL;VALUE=URI:https://www.aamu.edu/calendar/index.php?eID=1471
DTSTART:20190822T120000
DTEND:20190822T133000
SUMMARY:CETL Presents: Teaching Gen Z Students: Strategies For Dynamic &  Engaging Learning Experiences
DESCRIPTION:This year\, the first wave of Gen Z students will enter the college. Students born after the events of September 11\, 2001 have lived in a world entirely different from the one we grew up in and\, as... For complete event details please visit:  https://www.aamu.edu/calendar/?eID=1471\n______________________________\nEvent Downloaded Powered by OU Calendar
LOCATION:LRC Room 309  - 4900 Meridian Street LRC Room 308\, Normal\, AL United States 35762
CATEGORIES:AAMU Calendar Events
PRIORITY:0
TRANSP:TRANSPARENT
END:VEVENT
END:VCALENDAR