BEGIN:VCALENDAR
VERSION:2.0
METHOD:PUBLISH
CALSCALE:GREGORIAN
PRODID:-//Helios Calendar//EN
X-FROM-URL:https://www.aamu.edu/calendar/index.php?eID=1472
X-WR-RELCALID:AAMU Calendar AAMU Beyond Normal Lecture Series will Feature NFL Legend Michael Vick ('A Conversation on the Power of a Decision') 20190822T123000
X-WR-TIMEZONE:Europe/London
X-WR-CALNAME:AAMU Calendar
BEGIN:VEVENT
URL;VALUE=URI:https://www.aamu.edu/calendar/index.php?eID=1472
DTSTART:20190822T123000
DTEND:20190822T123000
SUMMARY:AAMU Beyond Normal Lecture Series will Feature NFL Legend Michael Vick ('A Conversation on the Power of a Decision')
DESCRIPTION:Alabama A&M University's Beyond Normal Lecture Series will feature NFL legend Michael Vick ("A Conversation on the Power of a Decision") on Thursday\, August 22\, at the Ernest L. Knight Reception... For complete event details please visit:  https://www.aamu.edu/calendar/?eID=1472\n______________________________\nEvent Downloaded Powered by OU Calendar
LOCATION:Ernest Knight Reception Center -  \, \, AL  
CATEGORIES:AAMU Calendar Events
PRIORITY:0
TRANSP:TRANSPARENT
END:VEVENT
END:VCALENDAR