BEGIN:VCALENDAR
VERSION:2.0
METHOD:PUBLISH
CALSCALE:GREGORIAN
PRODID:-//Helios Calendar//EN
X-FROM-URL:https://www.aamu.edu/calendar/index.php?eID=1478
X-WR-RELCALID:AAMU Calendar Kim Caudle Lewis, CEO of PROJECTXYZ, Inc., will Speak to A&M Business College 20190822T173000
X-WR-TIMEZONE:Europe/London
X-WR-CALNAME:AAMU Calendar
BEGIN:VEVENT
URL;VALUE=URI:https://www.aamu.edu/calendar/index.php?eID=1478
DTSTART:20190822T173000
DTEND:20190822T190000
SUMMARY:Kim Caudle Lewis\, CEO of PROJECTXYZ\, Inc.\, will Speak to A&M Business College
DESCRIPTION:The College of Business and Public Affairs (COPBA) at Alabama A&M University will host a local CEO for the August 22 Urban Engine 32/10 Series from 5:30-7:oo p.m. in the Clyde Foster Auditorium.... For complete event details please visit:  https://www.aamu.edu/calendar/?eID=1478\n______________________________\nEvent Downloaded Powered by OU Calendar
LOCATION:Clyde Foster Multipurpose Room -  \, \, AL  
CATEGORIES:AAMU Calendar Events
PRIORITY:0
TRANSP:TRANSPARENT
END:VEVENT
END:VCALENDAR