BEGIN:VCALENDAR
VERSION:2.0
METHOD:PUBLISH
CALSCALE:GREGORIAN
PRODID:-//Helios Calendar//EN
X-FROM-URL:https://www.aamu.edu/calendar/index.php?eID=1479
X-WR-RELCALID:AAMU Calendar CETL Presents: Fall 2019 Monday Morning Mentor Series 20190826T210000
X-WR-TIMEZONE:Europe/London
X-WR-CALNAME:AAMU Calendar
BEGIN:VEVENT
URL;VALUE=URI:https://www.aamu.edu/calendar/index.php?eID=1479
DTSTART:20190826T210000
DTEND:20190826T212000
SUMMARY:CETL Presents: Fall 2019 Monday Morning Mentor Series
DESCRIPTION:View on your own professional development for faculty & staff. Each week a new program becomes available Monday mornings. The program is available for on-demand viewing for one full week. *... For complete event details please visit:  https://www.aamu.edu/calendar/?eID=1479\n______________________________\nEvent Downloaded Powered by OU Calendar
LOCATION:Sophya Johnson - 4900 Meridian Street LRC Room 309\, Normal\, AL United States 35762
CATEGORIES:AAMU Calendar Events
PRIORITY:0
TRANSP:TRANSPARENT
END:VEVENT
END:VCALENDAR