BEGIN:VCALENDAR
VERSION:2.0
METHOD:PUBLISH
CALSCALE:GREGORIAN
PRODID:-//Helios Calendar//EN
X-FROM-URL:https://www.aamu.edu/calendar/index.php?eID=1495
X-WR-RELCALID:AAMU Calendar CETL Presents: Teaching Strategies Workshop 20190828T110000
X-WR-TIMEZONE:Europe/London
X-WR-CALNAME:AAMU Calendar
BEGIN:VEVENT
URL;VALUE=URI:https://www.aamu.edu/calendar/index.php?eID=1495
DTSTART:20190828T110000
DTEND:20190828T130000
SUMMARY:CETL Presents: Teaching Strategies Workshop
DESCRIPTION:A practical and active workshop for faculty on teaching strategies to support the learning process for AAMU students. Workshop discussion and activities will center on employing teaching strategies... For complete event details please visit:  https://www.aamu.edu/calendar/?eID=1495\n______________________________\nEvent Downloaded Powered by OU Calendar
LOCATION:LRC Room 309  - 4900 Meridian Street LRC Room 308\, Normal\, AL United States 35762
CATEGORIES:AAMU Calendar Events
PRIORITY:0
TRANSP:TRANSPARENT
END:VEVENT
END:VCALENDAR