BEGIN:VCALENDAR
VERSION:2.0
METHOD:PUBLISH
CALSCALE:GREGORIAN
PRODID:-//Helios Calendar//EN
X-FROM-URL:https://www.aamu.edu/calendar/index.php?eID=1496
X-WR-RELCALID:AAMU Calendar CETL Presents: Faculty Advising Workshop  20190829T090000
X-WR-TIMEZONE:Europe/London
X-WR-CALNAME:AAMU Calendar
BEGIN:VEVENT
URL;VALUE=URI:https://www.aamu.edu/calendar/index.php?eID=1496
DTSTART:20190829T090000
DTEND:20190829T110000
SUMMARY:CETL Presents: Faculty Advising Workshop 
DESCRIPTION:Faculty Advising Workshop is designed to provide an on-going series of discussions on a variety of advisement topics. The workshop was developed integrating conceptual\, informational\, theoretical\,... For complete event details please visit:  https://www.aamu.edu/calendar/?eID=1496\n______________________________\nEvent Downloaded Powered by OU Calendar
LOCATION:LRC Room 309  - 4900 Meridian Street LRC Room 308\, Normal\, AL United States 35762
CATEGORIES:AAMU Calendar Events
PRIORITY:0
TRANSP:TRANSPARENT
END:VEVENT
END:VCALENDAR