BEGIN:VCALENDAR
VERSION:2.0
METHOD:PUBLISH
CALSCALE:GREGORIAN
PRODID:-//Helios Calendar//EN
X-FROM-URL:https://www.aamu.edu/calendar/index.php?eID=1497
X-WR-RELCALID:AAMU Calendar CETL Presents: Tenure & Promotion, Faculty Mentoring Workshop  20190829T123000
X-WR-TIMEZONE:Europe/London
X-WR-CALNAME:AAMU Calendar
BEGIN:VEVENT
URL;VALUE=URI:https://www.aamu.edu/calendar/index.php?eID=1497
DTSTART:20190829T123000
DTEND:20190829T140000
SUMMARY:CETL Presents: Tenure & Promotion\, Faculty Mentoring Workshop 
DESCRIPTION:In this session\, the president of the faculty senate will give an overview of the tenure process\, outline tips and steps for approaching and completing the tenure process. She will lead the discussion... For complete event details please visit:  https://www.aamu.edu/calendar/?eID=1497\n______________________________\nEvent Downloaded Powered by OU Calendar
LOCATION:LRC Room 309  - 4900 Meridian Street LRC Room 308\, Normal\, AL United States 35762
CATEGORIES:AAMU Calendar Events
PRIORITY:0
TRANSP:TRANSPARENT
END:VEVENT
END:VCALENDAR