BEGIN:VCALENDAR
VERSION:2.0
METHOD:PUBLISH
CALSCALE:GREGORIAN
PRODID:-//Helios Calendar//EN
X-FROM-URL:https://www.aamu.edu/calendar/index.php?eID=1498
X-WR-RELCALID:AAMU Calendar Service and Learning Coordinator 20190904T123000
X-WR-TIMEZONE:Europe/London
X-WR-CALNAME:AAMU Calendar
BEGIN:VEVENT
URL;VALUE=URI:https://www.aamu.edu/calendar/index.php?eID=1498
DTSTART:20190904T123000
DTEND:20190904T140000
SUMMARY:Service and Learning Coordinator
DESCRIPTION:On Campus Voter Registration Drive Come out and register to vote in the next election this fall. Bring your friends and get them registered as well!    For complete event details please visit:  https://www.aamu.edu/calendar/?eID=1498\n______________________________\nEvent Downloaded Powered by OU Calendar
LOCATION:The Quad -  \, \, AL  
CATEGORIES:AAMU Calendar Events
PRIORITY:0
TRANSP:TRANSPARENT
END:VEVENT
END:VCALENDAR