BEGIN:VCALENDAR
VERSION:2.0
METHOD:PUBLISH
CALSCALE:GREGORIAN
PRODID:-//Helios Calendar//EN
X-FROM-URL:https://www.aamu.edu/calendar/index.php?eID=1499
X-WR-RELCALID:AAMU Calendar Voter Registration Drive 20190911T123000
X-WR-TIMEZONE:Europe/London
X-WR-CALNAME:AAMU Calendar
BEGIN:VEVENT
URL;VALUE=URI:https://www.aamu.edu/calendar/index.php?eID=1499
DTSTART:20190911T123000
DTEND:20190911T140000
SUMMARY:Voter Registration Drive
DESCRIPTION:The AAMU campus voter registration drive helps students register to vote by providing conveinient access to registration forms and assistance with filling out the forms.  Come out on the quad and... For complete event details please visit:  https://www.aamu.edu/calendar/?eID=1499\n______________________________\nEvent Downloaded Powered by OU Calendar
LOCATION:The Quad -  \, \, AL  
CATEGORIES:AAMU Calendar Events
PRIORITY:0
TRANSP:TRANSPARENT
END:VEVENT
END:VCALENDAR