BEGIN:VCALENDAR
VERSION:2.0
METHOD:PUBLISH
CALSCALE:GREGORIAN
PRODID:-//Helios Calendar//EN
X-FROM-URL:https://www.aamu.edu/calendar/index.php?eID=1501
X-WR-RELCALID:AAMU Calendar Voter Registration Drive TRAINING 20190913T123000
X-WR-TIMEZONE:Europe/London
X-WR-CALNAME:AAMU Calendar
BEGIN:VEVENT
URL;VALUE=URI:https://www.aamu.edu/calendar/index.php?eID=1501
DTSTART:20190913T123000
DTEND:20190913T133000
SUMMARY:Voter Registration Drive TRAINING
DESCRIPTION:Training for how to conduct a voter registration drive is provided four times a year\, twice in the fall\, and twice in the spring. AAMU Clubs and Organizations must have two representatives trained... For complete event details please visit:  https://www.aamu.edu/calendar/?eID=1501\n______________________________\nEvent Downloaded Powered by OU Calendar
LOCATION:Ralph Lee Student Center -  \, \, AL  
CATEGORIES:AAMU Calendar Events
PRIORITY:0
TRANSP:TRANSPARENT
END:VEVENT
END:VCALENDAR