BEGIN:VCALENDAR
VERSION:2.0
METHOD:PUBLISH
CALSCALE:GREGORIAN
PRODID:-//Helios Calendar//EN
X-FROM-URL:https://www.aamu.edu/calendar/index.php?eID=1502
X-WR-RELCALID:AAMU Calendar AAMU Will Host 'Laps for Love' Walk/Run 20190827T073000
X-WR-TIMEZONE:Europe/London
X-WR-CALNAME:AAMU Calendar
BEGIN:VEVENT
URL;VALUE=URI:https://www.aamu.edu/calendar/index.php?eID=1502
DTSTART:20190827T073000
DTEND:20190827T083000
SUMMARY:AAMU Will Host 'Laps for Love' Walk/Run
DESCRIPTION:Alabama A&M University will host the annual "Laps for Love" walk/run on Tuesday\, August 27\, at 7:30 a.m. on the Quad.  In case of rain\, the event will be held in the AAMU Wellness Center.  This... For complete event details please visit:  https://www.aamu.edu/calendar/?eID=1502\n______________________________\nEvent Downloaded Powered by OU Calendar
LOCATION:The Quad -  \, \, AL  
CATEGORIES:AAMU Calendar Events
PRIORITY:0
TRANSP:TRANSPARENT
END:VEVENT
END:VCALENDAR