BEGIN:VCALENDAR
VERSION:2.0
METHOD:PUBLISH
CALSCALE:GREGORIAN
PRODID:-//Helios Calendar//EN
X-FROM-URL:https://www.aamu.edu/calendar/index.php?eID=1504
X-WR-RELCALID:AAMU Calendar Coronation of Miss Alabama Agricultural and Mechanical University 20190906T190000
X-WR-TIMEZONE:Europe/London
X-WR-CALNAME:AAMU Calendar
BEGIN:VEVENT
URL;VALUE=URI:https://www.aamu.edu/calendar/index.php?eID=1504
DTSTART:20190906T190000
DTEND:20190906T190000
SUMMARY:Coronation of Miss Alabama Agricultural and Mechanical University
DESCRIPTION:You are invited to the Coronation of Miss AAMU 2019-2020. Samira Hopkinson will be crowned Miss Alabama Agricultural and Mechanical University on Friday\, September 6\, 2019\, at 7 p.m.\, in the T.M.... For complete event details please visit:  https://www.aamu.edu/calendar/?eID=1504\n______________________________\nEvent Downloaded Powered by OU Calendar
LOCATION:Elmore Gymnasium -  \, \, AL  
CATEGORIES:AAMU Calendar Events
PRIORITY:0
TRANSP:TRANSPARENT
END:VEVENT
END:VCALENDAR