BEGIN:VCALENDAR
VERSION:2.0
METHOD:PUBLISH
CALSCALE:GREGORIAN
PRODID:-//Helios Calendar//EN
X-FROM-URL:https://www.aamu.edu/calendar/index.php?eID=1506
X-WR-RELCALID:AAMU Calendar AAMU Louis Crews Classic Football Game 20190907T180000
X-WR-TIMEZONE:Europe/London
X-WR-CALNAME:AAMU Calendar
BEGIN:VEVENT
URL;VALUE=URI:https://www.aamu.edu/calendar/index.php?eID=1506
DTSTART:20190907T180000
DTEND:20190907T180000
SUMMARY:AAMU Louis Crews Classic Football Game
DESCRIPTION:Louis Crews Classic Football GameAAMU vs. University of Arkansas-Pine Bluff6:00 p.m.Home Game at Louis Crews Stadium  For complete event details please visit:  https://www.aamu.edu/calendar/?eID=1506\n______________________________\nEvent Downloaded Powered by OU Calendar
LOCATION:Louis Crews Stadium -  \, \, AL  
CATEGORIES:AAMU Calendar Events
PRIORITY:0
TRANSP:TRANSPARENT
END:VEVENT
END:VCALENDAR