BEGIN:VCALENDAR
VERSION:2.0
METHOD:PUBLISH
CALSCALE:GREGORIAN
PRODID:-//Helios Calendar//EN
X-FROM-URL:https://www.aamu.edu/calendar/index.php?eID=1508
X-WR-RELCALID:AAMU Calendar AAMU Bulldogs Football at University of North Alabama 20190914T180000
X-WR-TIMEZONE:Europe/London
X-WR-CALNAME:AAMU Calendar
BEGIN:VEVENT
URL;VALUE=URI:https://www.aamu.edu/calendar/index.php?eID=1508
DTSTART:20190914T180000
DTEND:20190914T180000
SUMMARY:AAMU Bulldogs Football at University of North Alabama
DESCRIPTION:AAMU Bulldogs at University of North Alabama at 6:00 p.m. Florence\, Alabama For complete event details please visit:  https://www.aamu.edu/calendar/?eID=1508\n______________________________\nEvent Downloaded Powered by OU Calendar
LOCATION:UNA -  \, Florence\,\,   AL
CATEGORIES:AAMU Calendar Events
PRIORITY:0
TRANSP:TRANSPARENT
END:VEVENT
END:VCALENDAR