BEGIN:VCALENDAR
VERSION:2.0
METHOD:PUBLISH
CALSCALE:GREGORIAN
PRODID:-//Helios Calendar//EN
X-FROM-URL:https://www.aamu.edu/calendar/index.php?eID=1513
X-WR-RELCALID:AAMU Calendar Magic City Classic 20191026T143000
X-WR-TIMEZONE:Europe/London
X-WR-CALNAME:AAMU Calendar
BEGIN:VEVENT
URL;VALUE=URI:https://www.aamu.edu/calendar/index.php?eID=1513
DTSTART:20191026T143000
DTEND:20191026T143000
SUMMARY:Magic City Classic
DESCRIPTION:AAMU Bulldogs vs. Alabama State University at 2:30pm Legion Field Birmingham AL  For complete event details please visit:  https://www.aamu.edu/calendar/?eID=1513\n______________________________\nEvent Downloaded Powered by OU Calendar
LOCATION:Legion Field -  \, Birmingham \, AL  
CATEGORIES:AAMU Calendar Events
PRIORITY:0
TRANSP:TRANSPARENT
END:VEVENT
END:VCALENDAR