BEGIN:VCALENDAR
VERSION:2.0
METHOD:PUBLISH
CALSCALE:GREGORIAN
PRODID:-//Helios Calendar//EN
X-FROM-URL:https://www.aamu.edu/calendar/index.php?eID=1514
X-WR-RELCALID:AAMU Calendar AAMU Bulldogs Football at Grambling State University 20191012T140000
X-WR-TIMEZONE:Europe/London
X-WR-CALNAME:AAMU Calendar
BEGIN:VEVENT
URL;VALUE=URI:https://www.aamu.edu/calendar/index.php?eID=1514
DTSTART:20191012T140000
DTEND:20191012T140000
SUMMARY:AAMU Bulldogs Football at Grambling State University
DESCRIPTION:Bulldogs Football at Grambling State University\, 2:00pm\, Grambling\, LA For complete event details please visit:  https://www.aamu.edu/calendar/?eID=1514\n______________________________\nEvent Downloaded Powered by OU Calendar
LOCATION:Grambling State University -  \, Grambling\,\, LA  
CATEGORIES:AAMU Calendar Events
PRIORITY:0
TRANSP:TRANSPARENT
END:VEVENT
END:VCALENDAR