BEGIN:VCALENDAR
VERSION:2.0
METHOD:PUBLISH
CALSCALE:GREGORIAN
PRODID:-//Helios Calendar//EN
X-FROM-URL:https://www.aamu.edu/calendar/index.php?eID=1528
X-WR-RELCALID:AAMU Calendar Bulldogs Soccer vs University of Louisiana at Monroe 20190922T130000
X-WR-TIMEZONE:Europe/London
X-WR-CALNAME:AAMU Calendar
BEGIN:VEVENT
URL;VALUE=URI:https://www.aamu.edu/calendar/index.php?eID=1528
DTSTART:20190922T130000
DTEND:20190922T130000
SUMMARY:Bulldogs Soccer vs University of Louisiana at Monroe
DESCRIPTION:Bulldog Field at 1:00 p.m. For complete event details please visit:  https://www.aamu.edu/calendar/?eID=1528\n______________________________\nEvent Downloaded Powered by OU Calendar
LOCATION:Bulldog Soccer Field -  \, Normal\, AL  35762
CATEGORIES:AAMU Calendar Events
PRIORITY:0
TRANSP:TRANSPARENT
END:VEVENT
END:VCALENDAR