BEGIN:VCALENDAR
VERSION:2.0
METHOD:PUBLISH
CALSCALE:GREGORIAN
PRODID:-//Helios Calendar//EN
X-FROM-URL:https://www.aamu.edu/calendar/index.php?eID=1533
X-WR-RELCALID:AAMU Calendar Homecoming Kickoff Party 20190929T210000
X-WR-TIMEZONE:Europe/London
X-WR-CALNAME:AAMU Calendar
BEGIN:VEVENT
URL;VALUE=URI:https://www.aamu.edu/calendar/index.php?eID=1533
DTSTART:20190929T210000
DTEND:20190930T000000
SUMMARY:Homecoming Kickoff Party
DESCRIPTION:Homecoming Kickoff Party\, on The Quad\, Time: 9:00 p.m. to 12:00 a.m. For complete event details please visit:  https://www.aamu.edu/calendar/?eID=1533\n______________________________\nEvent Downloaded Powered by OU Calendar
LOCATION:The Quad -  \, \, AL  
CATEGORIES:AAMU Calendar Events
PRIORITY:0
TRANSP:TRANSPARENT
END:VEVENT
END:VCALENDAR