BEGIN:VCALENDAR
VERSION:2.0
METHOD:PUBLISH
CALSCALE:GREGORIAN
PRODID:-//Helios Calendar//EN
X-FROM-URL:https://www.aamu.edu/calendar/index.php?eID=1538
X-WR-RELCALID:AAMU Calendar Every Sunny Wednesday/Faculty and Staff Step Show 20191002T120000
X-WR-TIMEZONE:Europe/London
X-WR-CALNAME:AAMU Calendar
BEGIN:VEVENT
URL;VALUE=URI:https://www.aamu.edu/calendar/index.php?eID=1538
DTSTART:20191002T120000
DTEND:20191002T140000
SUMMARY:Every Sunny Wednesday/Faculty and Staff Step Show
DESCRIPTION:Every Sunny Wednesday/Faculty and Staff Step Show\, on the Quad\, 12:00 p.m. to 2:00 p.m. For complete event details please visit:  https://www.aamu.edu/calendar/?eID=1538\n______________________________\nEvent Downloaded Powered by OU Calendar
LOCATION:The Quad -  \, \, AL  
CATEGORIES:AAMU Calendar Events
PRIORITY:0
TRANSP:TRANSPARENT
END:VEVENT
END:VCALENDAR