BEGIN:VCALENDAR
VERSION:2.0
METHOD:PUBLISH
CALSCALE:GREGORIAN
PRODID:-//Helios Calendar//EN
X-FROM-URL:https://www.aamu.edu/calendar/index.php?eID=1541
X-WR-RELCALID:AAMU Calendar Masons' Wreath Laying Event 20191003T110000
X-WR-TIMEZONE:Europe/London
X-WR-CALNAME:AAMU Calendar
BEGIN:VEVENT
URL;VALUE=URI:https://www.aamu.edu/calendar/index.php?eID=1541
DTSTART:20191003T110000
DTEND:20191003T110000
SUMMARY:Masons' Wreath Laying Event
DESCRIPTION:Masons' Wreath Laying Event\, Time: 11:00 a.m.\, Location: on The Block For complete event details please visit:  https://www.aamu.edu/calendar/?eID=1541\n______________________________\nEvent Downloaded Powered by OU Calendar
LOCATION:The Block -  \, \, AL  
CATEGORIES:AAMU Calendar Events
PRIORITY:0
TRANSP:TRANSPARENT
END:VEVENT
END:VCALENDAR