BEGIN:VCALENDAR
VERSION:2.0
METHOD:PUBLISH
CALSCALE:GREGORIAN
PRODID:-//Helios Calendar//EN
X-FROM-URL:https://www.aamu.edu/calendar/index.php?eID=1542
X-WR-RELCALID:AAMU Calendar Door Decorating Contest  20190923T080000
X-WR-TIMEZONE:Europe/London
X-WR-CALNAME:AAMU Calendar
BEGIN:VEVENT
URL;VALUE=URI:https://www.aamu.edu/calendar/index.php?eID=1542
DTSTART:20190923T080000
DTEND:20190923T170000
SUMMARY:Door Decorating Contest 
DESCRIPTION:The Door Decorating Contest allows Faculty and Staff the opportunity to decorate their departmental door based on the theme of Homecoming 2019: Celebrating 50 Years of Our University Designation and... For complete event details please visit:  https://www.aamu.edu/calendar/?eID=1542\n______________________________\nEvent Downloaded Powered by OU Calendar
LOCATION:On Campus Event -  4900 Meridian Street\, Normal\,\, AL  35762
CATEGORIES:AAMU Calendar Events
PRIORITY:0
TRANSP:TRANSPARENT
END:VEVENT
END:VCALENDAR