BEGIN:VCALENDAR
VERSION:2.0
METHOD:PUBLISH
CALSCALE:GREGORIAN
PRODID:-//Helios Calendar//EN
X-FROM-URL:https://www.aamu.edu/calendar/index.php?eID=1551
X-WR-RELCALID:AAMU Calendar Thanksgiving Break: Residential Life and Housing 20191125
X-WR-TIMEZONE:Europe/London
X-WR-CALNAME:AAMU Calendar
BEGIN:VEVENT
URL;VALUE=URI:https://www.aamu.edu/calendar/index.php?eID=1551
DTSTART;VALUE=DATE:20191125
DTEND;VALUE=DATE:20191126
SUMMARY:Thanksgiving Break: Residential Life and Housing
DESCRIPTION:The campus will close the week of November 25-29 for Thanksgiving\, but the Residence Halls will remain open during the break. For complete event details please visit:  https://www.aamu.edu/calendar/?eID=1551\n______________________________\nEvent Downloaded Powered by OU Calendar
LOCATION:Residential Life and Housing - 4900 Meridian Street 4900 Meridian Street\, Normal\, AL United States 35762
CATEGORIES:AAMU Calendar Events
PRIORITY:0
TRANSP:TRANSPARENT
END:VEVENT
END:VCALENDAR