BEGIN:VCALENDAR
VERSION:2.0
METHOD:PUBLISH
CALSCALE:GREGORIAN
PRODID:-//Helios Calendar//EN
X-FROM-URL:https://www.aamu.edu/calendar/index.php?eID=1579
X-WR-RELCALID:AAMU Calendar Breast Cancer Walk/ An All PINK Affair 20191016T123000
X-WR-TIMEZONE:Europe/London
X-WR-CALNAME:AAMU Calendar
BEGIN:VEVENT
URL;VALUE=URI:https://www.aamu.edu/calendar/index.php?eID=1579
DTSTART:20191016T123000
DTEND:20191016T140000
SUMMARY:Breast Cancer Walk/ An All PINK Affair
DESCRIPTION:AAMU will host a Breast Cancer Walk on Wednesday\, October 16\, 2019 in the Wellness Cent at 12:30pm. In honor of Breast Cancer Awareness we are asking everyone campus-wide to wear PINK. Guest Speaker:... For complete event details please visit:  https://www.aamu.edu/calendar/?eID=1579\n______________________________\nEvent Downloaded Powered by OU Calendar
LOCATION:Student Health and Wellness Center (SHWC) -  \, \, AL  
CATEGORIES:AAMU Calendar Events
PRIORITY:0
TRANSP:TRANSPARENT
END:VEVENT
END:VCALENDAR