BEGIN:VCALENDAR
VERSION:2.0
METHOD:PUBLISH
CALSCALE:GREGORIAN
PRODID:-//Helios Calendar//EN
X-FROM-URL:https://www.aamu.edu/calendar/index.php?eID=1580
X-WR-RELCALID:AAMU Calendar Meeting of the Board of Trustees of Alabama A&M University 20191025T083000
X-WR-TIMEZONE:Europe/London
X-WR-CALNAME:AAMU Calendar
BEGIN:VEVENT
URL;VALUE=URI:https://www.aamu.edu/calendar/index.php?eID=1580
DTSTART:20191025T083000
DTEND:20191025T110000
SUMMARY:Meeting of the Board of Trustees of Alabama A&M University
DESCRIPTION:The Alabama A&M University Board of Trustees will hold its regularly scheduled Board meeting on Friday\, October 25\, 2019 at 8:30 a.m. at The Westin Birmingham\, Ballroom A and B\, 2221 Richard Arrington\,... For complete event details please visit:  https://www.aamu.edu/calendar/?eID=1580\n______________________________\nEvent Downloaded Powered by OU Calendar
LOCATION:The Westin Birmingham - 2221 Richard Arrington\, Jr. Blvd. N. \, Birmingham \, AL  35203
CATEGORIES:AAMU Calendar Events
PRIORITY:0
TRANSP:TRANSPARENT
END:VEVENT
END:VCALENDAR