BEGIN:VCALENDAR
VERSION:2.0
METHOD:PUBLISH
CALSCALE:GREGORIAN
PRODID:-//Helios Calendar//EN
X-FROM-URL:https://www.aamu.edu/calendar/index.php?eID=1581
X-WR-RELCALID:AAMU Calendar Subcommittee Meetings - Board of Trustees 20191023T130000
X-WR-TIMEZONE:Europe/London
X-WR-CALNAME:AAMU Calendar
BEGIN:VEVENT
URL;VALUE=URI:https://www.aamu.edu/calendar/index.php?eID=1581
DTSTART:20191023T130000
DTEND:20191023T171500
SUMMARY:Subcommittee Meetings - Board of Trustees
DESCRIPTION:Wednesday\, October 23\, 2019Business and Finance.................1:00 p.m. - 3:00 p.m.Governance ..............................3:00 p.m. - 3:15 p.m.Academic Affairs & Research .......3:15 p.m.... For complete event details please visit:  https://www.aamu.edu/calendar/?eID=1581\n______________________________\nEvent Downloaded Powered by OU Calendar
LOCATION:The Westin Birmingham - 2221 Richard Arrington\, Jr. Blvd. N. \, Birmingham\, AL  35203
CATEGORIES:AAMU Calendar Events
PRIORITY:0
TRANSP:TRANSPARENT
END:VEVENT
END:VCALENDAR