BEGIN:VCALENDAR
VERSION:2.0
METHOD:PUBLISH
CALSCALE:GREGORIAN
PRODID:-//Helios Calendar//EN
X-FROM-URL:https://www.aamu.edu/calendar/index.php?eID=1584
X-WR-RELCALID:AAMU Calendar AAMU Bulldogs Volleyball vs. Alcorn State University 20191104T180000
X-WR-TIMEZONE:Europe/London
X-WR-CALNAME:AAMU Calendar
BEGIN:VEVENT
URL;VALUE=URI:https://www.aamu.edu/calendar/index.php?eID=1584
DTSTART:20191104T180000
DTEND:20191104T180000
SUMMARY:AAMU Bulldogs Volleyball vs. Alcorn State University
DESCRIPTION:AAMU Women's Volleyball vs. Alcorn State UniverstiyElmore Gym6:00 p.m. For complete event details please visit:  https://www.aamu.edu/calendar/?eID=1584\n______________________________\nEvent Downloaded Powered by OU Calendar
LOCATION:Elmore Gymnasium -  \, \, AL  
CATEGORIES:AAMU Calendar Events
PRIORITY:0
TRANSP:TRANSPARENT
END:VEVENT
END:VCALENDAR