BEGIN:VCALENDAR
VERSION:2.0
METHOD:PUBLISH
CALSCALE:GREGORIAN
PRODID:-//Helios Calendar//EN
X-FROM-URL:https://www.aamu.edu/calendar/index.php?eID=1599
X-WR-RELCALID:AAMU Calendar Alabama A&M University  20191110T160000
X-WR-TIMEZONE:Europe/London
X-WR-CALNAME:AAMU Calendar
BEGIN:VEVENT
URL;VALUE=URI:https://www.aamu.edu/calendar/index.php?eID=1599
DTSTART:20191110T160000
DTEND:20191110T160000
SUMMARY:Alabama A&M University 
DESCRIPTION:Come start your holiday season off with the University Choir at our end of the semester Fall Concert! It will be held at 4 PM at First Missionary Baptist Church on Blue Springs Road on November 10th.Â... For complete event details please visit:  https://www.aamu.edu/calendar/?eID=1599\n______________________________\nEvent Downloaded Powered by OU Calendar
LOCATION:First Missionary Baptist Church - 3509 Blue Spring Rd NW \, Huntsville\, AL United States 35810
CATEGORIES:AAMU Calendar Events
PRIORITY:0
TRANSP:TRANSPARENT
END:VEVENT
END:VCALENDAR