BEGIN:VCALENDAR
VERSION:2.0
METHOD:PUBLISH
CALSCALE:GREGORIAN
PRODID:-//Helios Calendar//EN
X-FROM-URL:https://www.aamu.edu/calendar/index.php?eID=1606
X-WR-RELCALID:AAMU Calendar Annual Tree Lighting 20191120T170000
X-WR-TIMEZONE:Europe/London
X-WR-CALNAME:AAMU Calendar
BEGIN:VEVENT
URL;VALUE=URI:https://www.aamu.edu/calendar/index.php?eID=1606
DTSTART:20191120T170000
DTEND:20191120T170000
SUMMARY:Annual Tree Lighting
DESCRIPTION:First Lady Abbiegail Hugine\, chair of the Bulldog Pride Committee\, has announced the date for the Annual Christmas Tree Lighting Ceremony.The activity will be held at 5pm on The Quad\, Wednesday\, November... For complete event details please visit:  https://www.aamu.edu/calendar/?eID=1606\n______________________________\nEvent Downloaded Powered by OU Calendar
LOCATION:The Quad -  \, \, AL  
CATEGORIES:AAMU Calendar Events
PRIORITY:0
TRANSP:TRANSPARENT
END:VEVENT
END:VCALENDAR