BEGIN:VCALENDAR
VERSION:2.0
METHOD:PUBLISH
CALSCALE:GREGORIAN
PRODID:-//Helios Calendar//EN
X-FROM-URL:https://www.aamu.edu/calendar/index.php?eID=1616
X-WR-RELCALID:AAMU Calendar Grades for December Graduates Due in Banner by NOON (Graduates and Undergraduates) 20191121T010000
X-WR-TIMEZONE:Europe/London
X-WR-CALNAME:AAMU Calendar
BEGIN:VEVENT
URL;VALUE=URI:https://www.aamu.edu/calendar/index.php?eID=1616
DTSTART:20191121T010000
DTEND:20191121T120000
SUMMARY:Grades for December Graduates Due in Banner by NOON (Graduates and Undergraduates)
DESCRIPTION:Grades for December Graduates Due in Banner by NOON (Graduates and Undergraduates) For complete event details please visit:  https://www.aamu.edu/calendar/?eID=1616\n______________________________\nEvent Downloaded Powered by OU Calendar
LOCATION:AAMU Campus - 4900 Meridian Street \, Huntsville\, AL USA 35811
CATEGORIES:AAMU Calendar Events
PRIORITY:0
TRANSP:TRANSPARENT
END:VEVENT
END:VCALENDAR