BEGIN:VCALENDAR
VERSION:2.0
METHOD:PUBLISH
CALSCALE:GREGORIAN
PRODID:-//Helios Calendar//EN
X-FROM-URL:https://www.aamu.edu/calendar/index.php?eID=1625
X-WR-RELCALID:AAMU Calendar AAMU Commencement 20191206T130000
X-WR-TIMEZONE:Europe/London
X-WR-CALNAME:AAMU Calendar
BEGIN:VEVENT
URL;VALUE=URI:https://www.aamu.edu/calendar/index.php?eID=1625
DTSTART:20191206T130000
DTEND:20191206T130000
SUMMARY:AAMU Commencement
DESCRIPTION:Miranda Bouldin is president and cheif executive officer of LogiCore Corporation\, who is heavily involved in community\, charitable and youth affairs will address more than 400 underclassmen and graduate... For complete event details please visit:  https://www.aamu.edu/calendar/?eID=1625\n______________________________\nEvent Downloaded Powered by OU Calendar
LOCATION:Von Braun Center -  \, Huntsville\, AL  
CATEGORIES:AAMU Calendar Events
PRIORITY:0
TRANSP:TRANSPARENT
END:VEVENT
END:VCALENDAR